BEGIN:VCALENDAR
VERSION:2.0
PRODID:-//dieLiga//DE
BEGIN:VEVENT
UID:event0
DTSTAMP:20260329T082039Z
DTSTART:20251006T181500Z
DTEND:20251006T200000Z
LOCATION;LANGUAGE=de;ENCODING=QUOTED-PRINTABLE:Flossmanstrasse  1\, Ebersberg
SUMMARY:Punktspiel TSV Ebersberg vs TSV Sauerlach
DESCRIPTION;LANGUAGE=de;ENCODING=QUOTED-PRINTABLE:13:25\, 25:22\, 15:25
END:VEVENT
BEGIN:VEVENT
UID:event1
DTSTAMP:20260329T082039Z
DTSTART:20251016T180000Z
DTEND:20251016T201500Z
LOCATION;LANGUAGE=de;ENCODING=QUOTED-PRINTABLE:Jahnstr. 5\, Unterföhring
SUMMARY:Punktspiel TSV Unterföhring II vs TSV Ebersberg
DESCRIPTION;LANGUAGE=de;ENCODING=QUOTED-PRINTABLE:18:25\, 18:25\, 16:25
END:VEVENT
BEGIN:VEVENT
UID:event2
DTSTAMP:20260329T082039Z
DTSTART:20251027T190000Z
DTEND:20251027T210000Z
LOCATION;LANGUAGE=de;ENCODING=QUOTED-PRINTABLE:Graf-Ulrich-Str. 8\, Eglharting
SUMMARY:Punktspiel ATSV Kirchseeon vs TSV Ebersberg
DESCRIPTION;LANGUAGE=de;ENCODING=QUOTED-PRINTABLE:25:20\, 19:25\, 26:24
END:VEVENT
BEGIN:VEVENT
UID:event3
DTSTAMP:20260329T082039Z
DTSTART:20260202T191500Z
DTEND:20260202T210000Z
LOCATION;LANGUAGE=de;ENCODING=QUOTED-PRINTABLE:Flossmanstrasse  1\, Ebersberg
SUMMARY:Punktspiel TSV Ebersberg vs TSV Zorneding II
DESCRIPTION;LANGUAGE=de;ENCODING=QUOTED-PRINTABLE:25:20\, 20:25\, 25:23
END:VEVENT
BEGIN:VEVENT
UID:event4
DTSTAMP:20260329T082039Z
DTSTART:20251204T190000Z
DTEND:20251204T210000Z
LOCATION;LANGUAGE=de;ENCODING=QUOTED-PRINTABLE:Dr. Max -Strasse 20\, Grünwald
SUMMARY:Punktspiel TSV Grünwald II vs TSV Ebersberg
DESCRIPTION;LANGUAGE=de;ENCODING=QUOTED-PRINTABLE:20:25\, 25:19\, 13:25
END:VEVENT
BEGIN:VEVENT
UID:event5
DTSTAMP:20260329T082039Z
DTSTART:20251208T191500Z
DTEND:20251208T210000Z
LOCATION;LANGUAGE=de;ENCODING=QUOTED-PRINTABLE:Flossmanstrasse  1\, Ebersberg
SUMMARY:Punktspiel TSV Ebersberg vs SpVgg Höhenkirchen
DESCRIPTION;LANGUAGE=de;ENCODING=QUOTED-PRINTABLE:26:24\, 25:16\, 14:25
END:VEVENT
BEGIN:VEVENT
UID:event6
DTSTAMP:20260329T082039Z
DTSTART:20260112T190000Z
DTEND:20260112T213000Z
LOCATION;LANGUAGE=de;ENCODING=QUOTED-PRINTABLE:Johann-Strauß-Straße 41\, Vaterstetten
SUMMARY:Punktspiel TSV Vaterstetten III vs TSV Ebersberg
DESCRIPTION;LANGUAGE=de;ENCODING=QUOTED-PRINTABLE:22:25\, 20:25\, 25:22
END:VEVENT
BEGIN:VEVENT
UID:event7
DTSTAMP:20260329T082039Z
DTSTART:20260119T190000Z
DTEND:20260119T213000Z
LOCATION;LANGUAGE=de;ENCODING=QUOTED-PRINTABLE:Am Otterloher Feld 2\, Sauerlach
SUMMARY:Punktspiel TSV Sauerlach vs TSV Ebersberg
DESCRIPTION;LANGUAGE=de;ENCODING=QUOTED-PRINTABLE:10:25\, 12:25\, 16:25
END:VEVENT
BEGIN:VEVENT
UID:event8
DTSTAMP:20260329T082039Z
DTSTART:20260223T191500Z
DTEND:20260223T210000Z
LOCATION;LANGUAGE=de;ENCODING=QUOTED-PRINTABLE:Flossmanstrasse  1\, Ebersberg
SUMMARY:Punktspiel TSV Ebersberg vs TSV Unterföhring II
DESCRIPTION;LANGUAGE=de;ENCODING=QUOTED-PRINTABLE:25:22\, 25:22\, 15:25
END:VEVENT
BEGIN:VEVENT
UID:event9
DTSTAMP:20260329T082039Z
DTSTART:20260209T191500Z
DTEND:20260209T210000Z
LOCATION;LANGUAGE=de;ENCODING=QUOTED-PRINTABLE:Flossmanstrasse  1\, Ebersberg
SUMMARY:Punktspiel TSV Ebersberg vs ATSV Kirchseeon
DESCRIPTION;LANGUAGE=de;ENCODING=QUOTED-PRINTABLE:24:26\, 25:12\, 25:13
END:VEVENT
BEGIN:VEVENT
UID:event10
DTSTAMP:20260329T082039Z
DTSTART:20260303T190000Z
DTEND:20260303T213000Z
LOCATION;LANGUAGE=de;ENCODING=QUOTED-PRINTABLE:Am Sportpark 7\, Zorneding
SUMMARY:Punktspiel TSV Zorneding II vs TSV Ebersberg
DESCRIPTION;LANGUAGE=de;ENCODING=QUOTED-PRINTABLE:9:25\, 11:25\, 20:25
END:VEVENT
BEGIN:VEVENT
UID:event11
DTSTAMP:20260329T082039Z
DTSTART:20260309T191500Z
DTEND:20260309T210000Z
LOCATION;LANGUAGE=de;ENCODING=QUOTED-PRINTABLE:Flossmanstrasse  1\, Ebersberg
SUMMARY:Punktspiel TSV Ebersberg vs TSV Grünwald II
DESCRIPTION;LANGUAGE=de;ENCODING=QUOTED-PRINTABLE:24:26\, 19:25\, 16:25
END:VEVENT
BEGIN:VEVENT
UID:event12
DTSTAMP:20260329T082039Z
DTSTART:20260319T190000Z
DTEND:20260319T210000Z
LOCATION;LANGUAGE=de;ENCODING=QUOTED-PRINTABLE:Brunnthaler Straße 8\, Höhenkirchen-Siegertsbrunn
SUMMARY:Punktspiel SpVgg Höhenkirchen vs TSV Ebersberg
DESCRIPTION;LANGUAGE=de;ENCODING=QUOTED-PRINTABLE:25:12\, 25:22\, 25:22
END:VEVENT
BEGIN:VEVENT
UID:event13
DTSTAMP:20260329T082039Z
DTSTART:20260323T191500Z
DTEND:20260323T210000Z
LOCATION;LANGUAGE=de;ENCODING=QUOTED-PRINTABLE:Flossmanstrasse  1\, Ebersberg
SUMMARY:Punktspiel TSV Ebersberg vs TSV Vaterstetten III
DESCRIPTION;LANGUAGE=de;ENCODING=QUOTED-PRINTABLE:25:15\, 25:17\, 25:27
END:VEVENT
END:VCALENDAR