BEGIN:VCALENDAR
VERSION:2.0
PRODID:-//dieLiga//DE
BEGIN:VEVENT
UID:event0
DTSTAMP:20260423T123317Z
DTSTART:20251009T180000Z
DTEND:20251009T200000Z
LOCATION;LANGUAGE=de;ENCODING=QUOTED-PRINTABLE:Käthe-Winkelmann-Platz  3\, Neufahrn 
SUMMARY:Punktspiel TSV Neufahrn IV vs VfB Hallbergmoos II (Mooskitos)
DESCRIPTION;LANGUAGE=de;ENCODING=QUOTED-PRINTABLE:14:25\, 25:22\, 22:25
END:VEVENT
BEGIN:VEVENT
UID:event1
DTSTAMP:20260423T123317Z
DTSTART:20251016T180000Z
DTEND:20251016T200000Z
LOCATION;LANGUAGE=de;ENCODING=QUOTED-PRINTABLE:Dietersheimer Strasse\, Eching
SUMMARY:Punktspiel SC Eching III vs TSV Neufahrn IV
DESCRIPTION;LANGUAGE=de;ENCODING=QUOTED-PRINTABLE:27:25\, 19:25\, 20:25
END:VEVENT
BEGIN:VEVENT
UID:event2
DTSTAMP:20260423T123317Z
DTSTART:20251019T171500Z
DTEND:20251019T180000Z
LOCATION;LANGUAGE=de;ENCODING=QUOTED-PRINTABLE:Kirchenstraße 13\, Moosinning
SUMMARY:Punktspiel FC Moosinning vs TSV Neufahrn IV
DESCRIPTION;LANGUAGE=de;ENCODING=QUOTED-PRINTABLE:19:25\, 17:25\, 25:20
END:VEVENT
BEGIN:VEVENT
UID:event3
DTSTAMP:20260423T123317Z
DTSTART:20251127T190000Z
DTEND:20251127T210000Z
LOCATION;LANGUAGE=de;ENCODING=QUOTED-PRINTABLE:Käthe-Winkelmann-Platz  3\, Neufahrn 
SUMMARY:Punktspiel TSV Neufahrn IV vs TSV Sankt Wolfgang III
DESCRIPTION;LANGUAGE=de;ENCODING=QUOTED-PRINTABLE:25:18\, 19:25\, 25:19
END:VEVENT
BEGIN:VEVENT
UID:event4
DTSTAMP:20260423T123317Z
DTSTART:20260128T190000Z
LOCATION;LANGUAGE=de;ENCODING=QUOTED-PRINTABLE:
SUMMARY:Punktspiel TuS Oberding mixed vs TSV Neufahrn IV
DESCRIPTION;LANGUAGE=de;ENCODING=QUOTED-PRINTABLE:25:19\, 25:14\, 25:20
END:VEVENT
BEGIN:VEVENT
UID:event5
DTSTAMP:20260423T123317Z
DTSTART:20251211T190000Z
DTEND:20251211T210000Z
LOCATION;LANGUAGE=de;ENCODING=QUOTED-PRINTABLE:Käthe-Winkelmann-Platz  3\, Neufahrn 
SUMMARY:Punktspiel TSV Neufahrn IV vs Freising Freizeit
DESCRIPTION;LANGUAGE=de;ENCODING=QUOTED-PRINTABLE:12:25\, 19:25\, 20:25
END:VEVENT
BEGIN:VEVENT
UID:event6
DTSTAMP:20260423T123317Z
DTSTART:20260114T180000Z
DTEND:20260114T200000Z
LOCATION;LANGUAGE=de;ENCODING=QUOTED-PRINTABLE:Heilig Blut Weg 8\, Erding
SUMMARY:Punktspiel Volleybärenbande Erding vs TSV Neufahrn IV
DESCRIPTION;LANGUAGE=de;ENCODING=QUOTED-PRINTABLE:25:18\, 25:18\, 25:11
END:VEVENT
BEGIN:VEVENT
UID:event7
DTSTAMP:20260423T123317Z
DTSTART:20260119T190000Z
DTEND:20260119T210000Z
LOCATION;LANGUAGE=de;ENCODING=QUOTED-PRINTABLE:Freiherr v.Hallbergplatz\, Hallbergmoos
SUMMARY:Punktspiel VfB Hallbergmoos II (Mooskitos) vs TSV Neufahrn IV
DESCRIPTION;LANGUAGE=de;ENCODING=QUOTED-PRINTABLE:25:10\, 26:24\, 25:21
END:VEVENT
BEGIN:VEVENT
UID:event8
DTSTAMP:20260423T123317Z
DTSTART:20260205T190000Z
DTEND:20260205T210000Z
LOCATION;LANGUAGE=de;ENCODING=QUOTED-PRINTABLE:Käthe-Winkelmann-Platz  3\, Neufahrn 
SUMMARY:Punktspiel TSV Neufahrn IV vs SC Eching III
DESCRIPTION;LANGUAGE=de;ENCODING=QUOTED-PRINTABLE:25:22\, 17:25\, 25:19
END:VEVENT
BEGIN:VEVENT
UID:event9
DTSTAMP:20260423T123317Z
DTSTART:20260212T190000Z
DTEND:20260212T210000Z
LOCATION;LANGUAGE=de;ENCODING=QUOTED-PRINTABLE:Käthe-Winkelmann-Platz  3\, Neufahrn 
SUMMARY:Punktspiel TSV Neufahrn IV vs FC Moosinning
DESCRIPTION;LANGUAGE=de;ENCODING=QUOTED-PRINTABLE:25:0\, 25:0\, 25:0
END:VEVENT
BEGIN:VEVENT
UID:event10
DTSTAMP:20260423T123317Z
DTSTART:20260311T190000Z
LOCATION;LANGUAGE=de;ENCODING=QUOTED-PRINTABLE:
SUMMARY:Punktspiel TSV Sankt Wolfgang III vs TSV Neufahrn IV
DESCRIPTION;LANGUAGE=de;ENCODING=QUOTED-PRINTABLE:25:20\, 25:13\, 25:20
END:VEVENT
BEGIN:VEVENT
UID:event11
DTSTAMP:20260423T123317Z
DTSTART:20260312T190000Z
DTEND:20260312T210000Z
LOCATION;LANGUAGE=de;ENCODING=QUOTED-PRINTABLE:Käthe-Winkelmann-Platz  3\, Neufahrn 
SUMMARY:Punktspiel TSV Neufahrn IV vs TuS Oberding mixed
DESCRIPTION;LANGUAGE=de;ENCODING=QUOTED-PRINTABLE:15:25\, 24:26\, 19:25
END:VEVENT
BEGIN:VEVENT
UID:event12
DTSTAMP:20260423T123317Z
DTSTART:20260316T190000Z
DTEND:20260316T210000Z
LOCATION;LANGUAGE=de;ENCODING=QUOTED-PRINTABLE:Moosstr.  46\, Freising
SUMMARY:Punktspiel Freising Freizeit vs TSV Neufahrn IV
DESCRIPTION;LANGUAGE=de;ENCODING=QUOTED-PRINTABLE:25:19\, 25:18\, 25:15
END:VEVENT
BEGIN:VEVENT
UID:event13
DTSTAMP:20260423T123317Z
DTSTART:20260319T190000Z
LOCATION;LANGUAGE=de;ENCODING=QUOTED-PRINTABLE:
SUMMARY:Punktspiel TSV Neufahrn IV vs Volleybärenbande Erding
DESCRIPTION;LANGUAGE=de;ENCODING=QUOTED-PRINTABLE:15:25\, 13:25\, 11:25
END:VEVENT
END:VCALENDAR