BEGIN:VCALENDAR
VERSION:2.0
PRODID:-//dieLiga//DE
BEGIN:VEVENT
UID:event0
DTSTAMP:20260420T014409Z
DTSTART:20251015T183000Z
DTEND:20251015T203000Z
LOCATION;LANGUAGE=de;ENCODING=QUOTED-PRINTABLE:Heimstettener Str. 3\, KIRCHHEIM 
SUMMARY:Punktspiel SV Heimstetten II vs TSV Feldkirchen
DESCRIPTION;LANGUAGE=de;ENCODING=QUOTED-PRINTABLE:26:24\, 25:14\, 25:15
END:VEVENT
BEGIN:VEVENT
UID:event1
DTSTAMP:20260420T014409Z
DTSTART:20251021T181500Z
DTEND:20251021T203000Z
LOCATION;LANGUAGE=de;ENCODING=QUOTED-PRINTABLE:Heimstettner Straße 3\, Kirchheim bei München
SUMMARY:Punktspiel Kirchheimer SC vs TSV Feldkirchen
DESCRIPTION;LANGUAGE=de;ENCODING=QUOTED-PRINTABLE:25:19\, 22:25\, 26:24
END:VEVENT
BEGIN:VEVENT
UID:event2
DTSTAMP:20260420T014409Z
DTSTART:20251128T183000Z
LOCATION;LANGUAGE=de;ENCODING=QUOTED-PRINTABLE:
SUMMARY:Punktspiel TSV Feldkirchen vs SV Wörth II
DESCRIPTION;LANGUAGE=de;ENCODING=QUOTED-PRINTABLE:23:25\, 25:11\, 26:24
END:VEVENT
BEGIN:VEVENT
UID:event3
DTSTAMP:20260420T014409Z
DTSTART:20251201T190000Z
DTEND:20251201T210000Z
LOCATION;LANGUAGE=de;ENCODING=QUOTED-PRINTABLE:An der Torfbahn 5\, Ismaning
SUMMARY:Punktspiel TSV Ismaning II vs TSV Feldkirchen
DESCRIPTION;LANGUAGE=de;ENCODING=QUOTED-PRINTABLE:14:25\, 18:25\, 14:25
END:VEVENT
BEGIN:VEVENT
UID:event4
DTSTAMP:20260420T014409Z
DTSTART:20251205T183000Z
LOCATION;LANGUAGE=de;ENCODING=QUOTED-PRINTABLE:
SUMMARY:Punktspiel TSV Feldkirchen vs Sportfreunde Aschheim
DESCRIPTION;LANGUAGE=de;ENCODING=QUOTED-PRINTABLE:25:16\, 25:20\, 19:25
END:VEVENT
BEGIN:VEVENT
UID:event5
DTSTAMP:20260420T014409Z
DTSTART:20260113T190000Z
DTEND:20260113T210000Z
LOCATION;LANGUAGE=de;ENCODING=QUOTED-PRINTABLE:Am Sportpark  7\, Zorneding
SUMMARY:Punktspiel TSV Zorneding III vs TSV Feldkirchen
DESCRIPTION;LANGUAGE=de;ENCODING=QUOTED-PRINTABLE:10:25\, 25:22\, 15:25
END:VEVENT
BEGIN:VEVENT
UID:event6
DTSTAMP:20260420T014409Z
DTSTART:20260130T183000Z
LOCATION;LANGUAGE=de;ENCODING=QUOTED-PRINTABLE:
SUMMARY:Punktspiel TSV Feldkirchen vs SV Heimstetten II
DESCRIPTION;LANGUAGE=de;ENCODING=QUOTED-PRINTABLE:23:25\, 18:25\, 25:21
END:VEVENT
BEGIN:VEVENT
UID:event7
DTSTAMP:20260420T014409Z
DTSTART:20260206T183000Z
LOCATION;LANGUAGE=de;ENCODING=QUOTED-PRINTABLE:
SUMMARY:Punktspiel TSV Feldkirchen vs Kirchheimer SC
DESCRIPTION;LANGUAGE=de;ENCODING=QUOTED-PRINTABLE:25:27\, 20:25\, 24:26
END:VEVENT
BEGIN:VEVENT
UID:event8
DTSTAMP:20260420T014409Z
DTSTART:20260304T193000Z
DTEND:20260303T230000Z
LOCATION;LANGUAGE=de;ENCODING=QUOTED-PRINTABLE:Georgenweg\, Wörth
SUMMARY:Punktspiel SV Wörth II vs TSV Feldkirchen
DESCRIPTION;LANGUAGE=de;ENCODING=QUOTED-PRINTABLE:26:24\, 17:25\, 21:25
END:VEVENT
BEGIN:VEVENT
UID:event9
DTSTAMP:20260420T014409Z
DTSTART:20260306T183000Z
LOCATION;LANGUAGE=de;ENCODING=QUOTED-PRINTABLE:
SUMMARY:Punktspiel TSV Feldkirchen vs TSV Ismaning II
DESCRIPTION;LANGUAGE=de;ENCODING=QUOTED-PRINTABLE:25:14\, 25:13\, 25:15
END:VEVENT
BEGIN:VEVENT
UID:event10
DTSTAMP:20260420T014409Z
DTSTART:20260416T160000Z
LOCATION;LANGUAGE=de;ENCODING=QUOTED-PRINTABLE:
SUMMARY:Punktspiel Sportfreunde Aschheim vs TSV Feldkirchen
DESCRIPTION;LANGUAGE=de;ENCODING=QUOTED-PRINTABLE:9:25\, 20:25\, 17:25
END:VEVENT
BEGIN:VEVENT
UID:event11
DTSTAMP:20260420T014409Z
DTSTART:20260320T183000Z
LOCATION;LANGUAGE=de;ENCODING=QUOTED-PRINTABLE:
SUMMARY:Punktspiel TSV Feldkirchen vs TSV Zorneding III
DESCRIPTION;LANGUAGE=de;ENCODING=QUOTED-PRINTABLE:25:17\, 24:26\, 22:25
END:VEVENT
END:VCALENDAR