BEGIN:VCALENDAR
VERSION:2.0
PRODID:-//dieLiga//DE
BEGIN:VEVENT
UID:event0
DTSTAMP:20260403T021000Z
DTSTART:20251008T180000Z
LOCATION;LANGUAGE=de;ENCODING=QUOTED-PRINTABLE:
SUMMARY:Punktspiel TSV Sankt Wolfgang III vs Freising Freizeit
DESCRIPTION;LANGUAGE=de;ENCODING=QUOTED-PRINTABLE:19:25\, 22:25\, 25:23
END:VEVENT
BEGIN:VEVENT
UID:event1
DTSTAMP:20260403T021000Z
DTSTART:20251123T190000Z
LOCATION;LANGUAGE=de;ENCODING=QUOTED-PRINTABLE:
SUMMARY:Punktspiel TSV Sankt Wolfgang III vs Volleybärenbande Erding
DESCRIPTION;LANGUAGE=de;ENCODING=QUOTED-PRINTABLE:11:25\, 26:24\, 25:18
END:VEVENT
BEGIN:VEVENT
UID:event2
DTSTAMP:20260403T021000Z
DTSTART:20260118T170100Z
LOCATION;LANGUAGE=de;ENCODING=QUOTED-PRINTABLE:
SUMMARY:Punktspiel TSV Sankt Wolfgang III vs VfB Hallbergmoos II (Mooskitos)
DESCRIPTION;LANGUAGE=de;ENCODING=QUOTED-PRINTABLE:25:0\, 25:0\, 25:0
END:VEVENT
BEGIN:VEVENT
UID:event3
DTSTAMP:20260403T021000Z
DTSTART:20251127T190000Z
DTEND:20251127T210000Z
LOCATION;LANGUAGE=de;ENCODING=QUOTED-PRINTABLE:Käthe-Winkelmann-Platz  3\, Neufahrn 
SUMMARY:Punktspiel TSV Neufahrn IV vs TSV Sankt Wolfgang III
DESCRIPTION;LANGUAGE=de;ENCODING=QUOTED-PRINTABLE:25:18\, 19:25\, 25:19
END:VEVENT
BEGIN:VEVENT
UID:event4
DTSTAMP:20260403T021000Z
DTSTART:20251109T170000Z
LOCATION;LANGUAGE=de;ENCODING=QUOTED-PRINTABLE:
SUMMARY:Punktspiel TSV Sankt Wolfgang III vs FC Moosinning
DESCRIPTION;LANGUAGE=de;ENCODING=QUOTED-PRINTABLE:25:15\, 25:17\, 25:13
END:VEVENT
BEGIN:VEVENT
UID:event5
DTSTAMP:20260403T021000Z
DTSTART:20251211T190000Z
DTEND:20251211T210000Z
LOCATION;LANGUAGE=de;ENCODING=QUOTED-PRINTABLE:Dietersheimer Strasse\, Eching
SUMMARY:Punktspiel SC Eching III vs TSV Sankt Wolfgang III
DESCRIPTION;LANGUAGE=de;ENCODING=QUOTED-PRINTABLE:18:25\, 20:25\, 19:25
END:VEVENT
BEGIN:VEVENT
UID:event6
DTSTAMP:20260403T021000Z
DTSTART:20260114T190000Z
DTEND:20260114T210000Z
LOCATION;LANGUAGE=de;ENCODING=QUOTED-PRINTABLE:Hauptstr  56\, Oberding 
SUMMARY:Punktspiel TuS Oberding mixed vs TSV Sankt Wolfgang III
DESCRIPTION;LANGUAGE=de;ENCODING=QUOTED-PRINTABLE:25:11\, 25:20\, 25:11
END:VEVENT
BEGIN:VEVENT
UID:event7
DTSTAMP:20260403T021000Z
DTSTART:20260223T190000Z
DTEND:20260223T210000Z
LOCATION;LANGUAGE=de;ENCODING=QUOTED-PRINTABLE:Moosstr.  46\, Freising
SUMMARY:Punktspiel Freising Freizeit vs TSV Sankt Wolfgang III
DESCRIPTION;LANGUAGE=de;ENCODING=QUOTED-PRINTABLE:25:20\, 25:21\, 25:17
END:VEVENT
BEGIN:VEVENT
UID:event8
DTSTAMP:20260403T021000Z
DTSTART:20260128T180000Z
DTEND:20260128T200000Z
LOCATION;LANGUAGE=de;ENCODING=QUOTED-PRINTABLE:Heilig Blut Weg 8\, Erding
SUMMARY:Punktspiel Volleybärenbande Erding vs TSV Sankt Wolfgang III
DESCRIPTION;LANGUAGE=de;ENCODING=QUOTED-PRINTABLE:19:25\, 25:13\, 25:17
END:VEVENT
BEGIN:VEVENT
UID:event9
DTSTAMP:20260403T021000Z
DTSTART:20260209T190000Z
DTEND:20260209T210000Z
LOCATION;LANGUAGE=de;ENCODING=QUOTED-PRINTABLE:Freiherr v.Hallbergplatz\, Hallbergmoos
SUMMARY:Punktspiel VfB Hallbergmoos II (Mooskitos) vs TSV Sankt Wolfgang III
DESCRIPTION;LANGUAGE=de;ENCODING=QUOTED-PRINTABLE:25:14\, 25:17\, 25:20
END:VEVENT
BEGIN:VEVENT
UID:event10
DTSTAMP:20260403T021000Z
DTSTART:20260311T190000Z
LOCATION;LANGUAGE=de;ENCODING=QUOTED-PRINTABLE:
SUMMARY:Punktspiel TSV Sankt Wolfgang III vs TSV Neufahrn IV
DESCRIPTION;LANGUAGE=de;ENCODING=QUOTED-PRINTABLE:25:20\, 25:13\, 25:20
END:VEVENT
BEGIN:VEVENT
UID:event11
DTSTAMP:20260403T021000Z
DTSTART:20260308T181500Z
DTEND:20260308T190000Z
LOCATION;LANGUAGE=de;ENCODING=QUOTED-PRINTABLE:Kirchenstraße 13\, Moosinning
SUMMARY:Punktspiel FC Moosinning vs TSV Sankt Wolfgang III
DESCRIPTION;LANGUAGE=de;ENCODING=QUOTED-PRINTABLE:0:25\, 0:25\, 0:25
END:VEVENT
BEGIN:VEVENT
UID:event12
DTSTAMP:20260403T021000Z
DTSTART:20260331T180000Z
LOCATION;LANGUAGE=de;ENCODING=QUOTED-PRINTABLE:
SUMMARY:Punktspiel TSV Sankt Wolfgang III vs SC Eching III
DESCRIPTION;LANGUAGE=de;ENCODING=QUOTED-PRINTABLE:20:25\, 20:25\, 25:14
END:VEVENT
BEGIN:VEVENT
UID:event13
DTSTAMP:20260403T021000Z
DTSTART:20260225T190000Z
LOCATION;LANGUAGE=de;ENCODING=QUOTED-PRINTABLE:
SUMMARY:Punktspiel TSV Sankt Wolfgang III vs TuS Oberding mixed
DESCRIPTION;LANGUAGE=de;ENCODING=QUOTED-PRINTABLE:25:22\, 14:25\, 25:27
END:VEVENT
END:VCALENDAR