BEGIN:VCALENDAR
VERSION:2.0
PRODID:-//dieLiga//DE
BEGIN:VEVENT
UID:event0
DTSTAMP:20260329T081624Z
DTSTART:20251008T180000Z
LOCATION;LANGUAGE=de;ENCODING=QUOTED-PRINTABLE:
SUMMARY:Punktspiel TSV Sankt Wolfgang III vs Freising Freizeit
DESCRIPTION;LANGUAGE=de;ENCODING=QUOTED-PRINTABLE:19:25\, 22:25\, 25:23
END:VEVENT
BEGIN:VEVENT
UID:event1
DTSTAMP:20260329T081624Z
DTSTART:20251013T180000Z
DTEND:20251013T200000Z
LOCATION;LANGUAGE=de;ENCODING=QUOTED-PRINTABLE:Moosstr.  46\, Freising
SUMMARY:Punktspiel Freising Freizeit vs TuS Oberding mixed
DESCRIPTION;LANGUAGE=de;ENCODING=QUOTED-PRINTABLE:25:18\, 25:14\, 25:6
END:VEVENT
BEGIN:VEVENT
UID:event2
DTSTAMP:20260329T081624Z
DTSTART:20251027T190000Z
DTEND:20251027T210000Z
LOCATION;LANGUAGE=de;ENCODING=QUOTED-PRINTABLE:Moosstr.  46\, Freising
SUMMARY:Punktspiel Freising Freizeit vs SC Eching III
DESCRIPTION;LANGUAGE=de;ENCODING=QUOTED-PRINTABLE:21:25\, 25:17\, 27:25
END:VEVENT
BEGIN:VEVENT
UID:event3
DTSTAMP:20260329T081624Z
DTSTART:20251126T180000Z
DTEND:20251126T200000Z
LOCATION;LANGUAGE=de;ENCODING=QUOTED-PRINTABLE:Heilig Blut Weg 8\, Erding
SUMMARY:Punktspiel Volleybärenbande Erding vs Freising Freizeit
DESCRIPTION;LANGUAGE=de;ENCODING=QUOTED-PRINTABLE:25:22\, 25:23\, 19:25
END:VEVENT
BEGIN:VEVENT
UID:event4
DTSTAMP:20260329T081624Z
DTSTART:20251201T190000Z
DTEND:20251201T210000Z
LOCATION;LANGUAGE=de;ENCODING=QUOTED-PRINTABLE:Moosstr.  46\, Freising
SUMMARY:Punktspiel Freising Freizeit vs VfB Hallbergmoos II (Mooskitos)
DESCRIPTION;LANGUAGE=de;ENCODING=QUOTED-PRINTABLE:25:17\, 25:19\, 25:13
END:VEVENT
BEGIN:VEVENT
UID:event5
DTSTAMP:20260329T081624Z
DTSTART:20251211T190000Z
DTEND:20251211T210000Z
LOCATION;LANGUAGE=de;ENCODING=QUOTED-PRINTABLE:Käthe-Winkelmann-Platz  3\, Neufahrn 
SUMMARY:Punktspiel TSV Neufahrn IV vs Freising Freizeit
DESCRIPTION;LANGUAGE=de;ENCODING=QUOTED-PRINTABLE:12:25\, 19:25\, 20:25
END:VEVENT
BEGIN:VEVENT
UID:event6
DTSTAMP:20260329T081624Z
DTSTART:20260126T190000Z
DTEND:20260126T210000Z
LOCATION;LANGUAGE=de;ENCODING=QUOTED-PRINTABLE:Moosstr.  46\, Freising
SUMMARY:Punktspiel Freising Freizeit vs FC Moosinning
DESCRIPTION;LANGUAGE=de;ENCODING=QUOTED-PRINTABLE:25:0\, 25:0\, 25:0
END:VEVENT
BEGIN:VEVENT
UID:event7
DTSTAMP:20260329T081624Z
DTSTART:20260223T190000Z
DTEND:20260223T210000Z
LOCATION;LANGUAGE=de;ENCODING=QUOTED-PRINTABLE:Moosstr.  46\, Freising
SUMMARY:Punktspiel Freising Freizeit vs TSV Sankt Wolfgang III
DESCRIPTION;LANGUAGE=de;ENCODING=QUOTED-PRINTABLE:25:20\, 25:21\, 25:17
END:VEVENT
BEGIN:VEVENT
UID:event8
DTSTAMP:20260329T081624Z
DTSTART:20260204T190000Z
DTEND:20260204T210000Z
LOCATION;LANGUAGE=de;ENCODING=QUOTED-PRINTABLE:Hauptstr  56\, Oberding 
SUMMARY:Punktspiel TuS Oberding mixed vs Freising Freizeit
DESCRIPTION;LANGUAGE=de;ENCODING=QUOTED-PRINTABLE:25:14\, 25:11\, 25:12
END:VEVENT
BEGIN:VEVENT
UID:event9
DTSTAMP:20260329T081624Z
DTSTART:20260312T190000Z
LOCATION;LANGUAGE=de;ENCODING=QUOTED-PRINTABLE:
SUMMARY:Punktspiel SC Eching III vs Freising Freizeit
DESCRIPTION;LANGUAGE=de;ENCODING=QUOTED-PRINTABLE:18:25\, 20:25\, 17:25
END:VEVENT
BEGIN:VEVENT
UID:event10
DTSTAMP:20260329T081624Z
DTSTART:20260302T190000Z
DTEND:20260302T210000Z
LOCATION;LANGUAGE=de;ENCODING=QUOTED-PRINTABLE:Moosstr.  46\, Freising
SUMMARY:Punktspiel Freising Freizeit vs Volleybärenbande Erding
DESCRIPTION;LANGUAGE=de;ENCODING=QUOTED-PRINTABLE:25:16\, 23:25\, 27:25
END:VEVENT
BEGIN:VEVENT
UID:event11
DTSTAMP:20260329T081624Z
DTSTART:20260309T190000Z
DTEND:20260309T210000Z
LOCATION;LANGUAGE=de;ENCODING=QUOTED-PRINTABLE:Freiherr v.Hallbergplatz\, Hallbergmoos
SUMMARY:Punktspiel VfB Hallbergmoos II (Mooskitos) vs Freising Freizeit
DESCRIPTION;LANGUAGE=de;ENCODING=QUOTED-PRINTABLE:16:25\, 26:24\, 23:25
END:VEVENT
BEGIN:VEVENT
UID:event12
DTSTAMP:20260329T081624Z
DTSTART:20260316T190000Z
DTEND:20260316T210000Z
LOCATION;LANGUAGE=de;ENCODING=QUOTED-PRINTABLE:Moosstr.  46\, Freising
SUMMARY:Punktspiel Freising Freizeit vs TSV Neufahrn IV
DESCRIPTION;LANGUAGE=de;ENCODING=QUOTED-PRINTABLE:25:19\, 25:18\, 25:15
END:VEVENT
BEGIN:VEVENT
UID:event13
DTSTAMP:20260329T081624Z
DTSTART:20260322T181500Z
DTEND:20260322T190000Z
LOCATION;LANGUAGE=de;ENCODING=QUOTED-PRINTABLE:Kirchenstraße 13\, Moosinning
SUMMARY:Punktspiel FC Moosinning vs Freising Freizeit
DESCRIPTION;LANGUAGE=de;ENCODING=QUOTED-PRINTABLE:0:25\, 0:25\, 0:25
END:VEVENT
END:VCALENDAR