BEGIN:VCALENDAR
VERSION:2.0
PRODID:-//dieLiga//DE
BEGIN:VEVENT
UID:event0
DTSTAMP:20260423T104133Z
DTSTART:20251006T180000Z
DTEND:20251006T200000Z
LOCATION;LANGUAGE=de;ENCODING=QUOTED-PRINTABLE:An der Torfbahn 5\, Ismaning
SUMMARY:Punktspiel TSV Ismaning II vs SV Heimstetten II
DESCRIPTION;LANGUAGE=de;ENCODING=QUOTED-PRINTABLE:10:25\, 5:25\, 11:25
END:VEVENT
BEGIN:VEVENT
UID:event1
DTSTAMP:20260423T104133Z
DTSTART:20251015T183000Z
DTEND:20251015T203000Z
LOCATION;LANGUAGE=de;ENCODING=QUOTED-PRINTABLE:Heimstettener Str. 3\, KIRCHHEIM 
SUMMARY:Punktspiel SV Heimstetten II vs TSV Feldkirchen
DESCRIPTION;LANGUAGE=de;ENCODING=QUOTED-PRINTABLE:26:24\, 25:14\, 25:15
END:VEVENT
BEGIN:VEVENT
UID:event2
DTSTAMP:20260423T104133Z
DTSTART:20251023T160000Z
DTEND:20251023T180000Z
LOCATION;LANGUAGE=de;ENCODING=QUOTED-PRINTABLE:Eichendorffstraße 14\, Aschheim
SUMMARY:Punktspiel Sportfreunde Aschheim vs SV Heimstetten II
DESCRIPTION;LANGUAGE=de;ENCODING=QUOTED-PRINTABLE:15:25\, 15:25\, 13:25
END:VEVENT
BEGIN:VEVENT
UID:event3
DTSTAMP:20260423T104133Z
DTSTART:20251126T193000Z
DTEND:20251126T213000Z
LOCATION;LANGUAGE=de;ENCODING=QUOTED-PRINTABLE:Heimstettener Str. 3\, KIRCHHEIM 
SUMMARY:Punktspiel SV Heimstetten II vs Kirchheimer SC
DESCRIPTION;LANGUAGE=de;ENCODING=QUOTED-PRINTABLE:22:25\, 25:22\, 27:25
END:VEVENT
BEGIN:VEVENT
UID:event4
DTSTAMP:20260423T104133Z
DTSTART:20251202T190000Z
DTEND:20251202T210000Z
LOCATION;LANGUAGE=de;ENCODING=QUOTED-PRINTABLE:Am Sportpark  7\, Zorneding
SUMMARY:Punktspiel TSV Zorneding III vs SV Heimstetten II
DESCRIPTION;LANGUAGE=de;ENCODING=QUOTED-PRINTABLE:17:25\, 20:25\, 21:25
END:VEVENT
BEGIN:VEVENT
UID:event5
DTSTAMP:20260423T104133Z
DTSTART:20260114T193000Z
DTEND:20260114T213000Z
LOCATION;LANGUAGE=de;ENCODING=QUOTED-PRINTABLE:Heimstettener Str. 3\, KIRCHHEIM 
SUMMARY:Punktspiel SV Heimstetten II vs SV Wörth II
DESCRIPTION;LANGUAGE=de;ENCODING=QUOTED-PRINTABLE:25:22\, 25:21\, 25:23
END:VEVENT
BEGIN:VEVENT
UID:event6
DTSTAMP:20260423T104133Z
DTSTART:20260121T193000Z
DTEND:20260121T213000Z
LOCATION;LANGUAGE=de;ENCODING=QUOTED-PRINTABLE:Heimstettener Str. 3\, KIRCHHEIM 
SUMMARY:Punktspiel SV Heimstetten II vs TSV Ismaning II
DESCRIPTION;LANGUAGE=de;ENCODING=QUOTED-PRINTABLE:25:7\, 25:9\, 25:11
END:VEVENT
BEGIN:VEVENT
UID:event7
DTSTAMP:20260423T104133Z
DTSTART:20260130T183000Z
LOCATION;LANGUAGE=de;ENCODING=QUOTED-PRINTABLE:
SUMMARY:Punktspiel TSV Feldkirchen vs SV Heimstetten II
DESCRIPTION;LANGUAGE=de;ENCODING=QUOTED-PRINTABLE:23:25\, 18:25\, 25:21
END:VEVENT
BEGIN:VEVENT
UID:event8
DTSTAMP:20260423T104133Z
DTSTART:20260211T193000Z
DTEND:20260211T213000Z
LOCATION;LANGUAGE=de;ENCODING=QUOTED-PRINTABLE:Heimstettener Str. 3\, KIRCHHEIM 
SUMMARY:Punktspiel SV Heimstetten II vs Sportfreunde Aschheim
DESCRIPTION;LANGUAGE=de;ENCODING=QUOTED-PRINTABLE:25:10\, 25:15\, 25:23
END:VEVENT
BEGIN:VEVENT
UID:event9
DTSTAMP:20260423T104133Z
DTSTART:20260414T181500Z
DTEND:20260414T203000Z
LOCATION;LANGUAGE=de;ENCODING=QUOTED-PRINTABLE:Heimstettner Straße 3\, Kirchheim bei München
SUMMARY:Punktspiel Kirchheimer SC vs SV Heimstetten II
DESCRIPTION;LANGUAGE=de;ENCODING=QUOTED-PRINTABLE:25:21\, 25:22\, 25:20
END:VEVENT
BEGIN:VEVENT
UID:event10
DTSTAMP:20260423T104133Z
DTSTART:20260311T193000Z
DTEND:20260311T213000Z
LOCATION;LANGUAGE=de;ENCODING=QUOTED-PRINTABLE:Heimstettener Str. 3\, KIRCHHEIM 
SUMMARY:Punktspiel SV Heimstetten II vs TSV Zorneding III
DESCRIPTION;LANGUAGE=de;ENCODING=QUOTED-PRINTABLE:27:25\, 15:25\, 25:22
END:VEVENT
BEGIN:VEVENT
UID:event11
DTSTAMP:20260423T104133Z
DTSTART:20260422T181500Z
LOCATION;LANGUAGE=de;ENCODING=QUOTED-PRINTABLE:
SUMMARY:Punktspiel SV Wörth II vs SV Heimstetten II
DESCRIPTION;LANGUAGE=de;ENCODING=QUOTED-PRINTABLE:26:24\, 7:25\, 25:21
END:VEVENT
END:VCALENDAR