BEGIN:VCALENDAR
VERSION:2.0
PRODID:-//dieLiga//DE
BEGIN:VEVENT
UID:event0
DTSTAMP:20260423T102412Z
DTSTART:20251007T181500Z
DTEND:20251007T203000Z
LOCATION;LANGUAGE=de;ENCODING=QUOTED-PRINTABLE:Heimstettner Straße 3\, Kirchheim bei München
SUMMARY:Punktspiel Kirchheimer SC vs TSV Zorneding III
DESCRIPTION;LANGUAGE=de;ENCODING=QUOTED-PRINTABLE:25:16\, 25:9\, 25:14
END:VEVENT
BEGIN:VEVENT
UID:event1
DTSTAMP:20260423T102412Z
DTSTART:20251021T181500Z
DTEND:20251021T203000Z
LOCATION;LANGUAGE=de;ENCODING=QUOTED-PRINTABLE:Heimstettner Straße 3\, Kirchheim bei München
SUMMARY:Punktspiel Kirchheimer SC vs TSV Feldkirchen
DESCRIPTION;LANGUAGE=de;ENCODING=QUOTED-PRINTABLE:25:19\, 22:25\, 26:24
END:VEVENT
BEGIN:VEVENT
UID:event2
DTSTAMP:20260423T102412Z
DTSTART:20251126T193000Z
DTEND:20251126T213000Z
LOCATION;LANGUAGE=de;ENCODING=QUOTED-PRINTABLE:Heimstettener Str. 3\, KIRCHHEIM 
SUMMARY:Punktspiel SV Heimstetten II vs Kirchheimer SC
DESCRIPTION;LANGUAGE=de;ENCODING=QUOTED-PRINTABLE:22:25\, 25:22\, 27:25
END:VEVENT
BEGIN:VEVENT
UID:event3
DTSTAMP:20260423T102412Z
DTSTART:20251203T193000Z
DTEND:20251202T230000Z
LOCATION;LANGUAGE=de;ENCODING=QUOTED-PRINTABLE:Georgenweg\, Wörth
SUMMARY:Punktspiel SV Wörth II vs Kirchheimer SC
DESCRIPTION;LANGUAGE=de;ENCODING=QUOTED-PRINTABLE:25:14\, 13:25\, 19:25
END:VEVENT
BEGIN:VEVENT
UID:event4
DTSTAMP:20260423T102412Z
DTSTART:20251209T191500Z
DTEND:20251209T213000Z
LOCATION;LANGUAGE=de;ENCODING=QUOTED-PRINTABLE:Heimstettner Straße 3\, Kirchheim bei München
SUMMARY:Punktspiel Kirchheimer SC vs TSV Ismaning II
DESCRIPTION;LANGUAGE=de;ENCODING=QUOTED-PRINTABLE:25:8\, 25:8\, 25:8
END:VEVENT
BEGIN:VEVENT
UID:event5
DTSTAMP:20260423T102412Z
DTSTART:20260115T170000Z
DTEND:20260115T190000Z
LOCATION;LANGUAGE=de;ENCODING=QUOTED-PRINTABLE:Eichendorffstraße 14\, Aschheim
SUMMARY:Punktspiel Sportfreunde Aschheim vs Kirchheimer SC
DESCRIPTION;LANGUAGE=de;ENCODING=QUOTED-PRINTABLE:15:25\, 9:25\, 14:25
END:VEVENT
BEGIN:VEVENT
UID:event6
DTSTAMP:20260423T102412Z
DTSTART:20260120T190000Z
DTEND:20260120T210000Z
LOCATION;LANGUAGE=de;ENCODING=QUOTED-PRINTABLE:Am Sportpark  7\, Zorneding
SUMMARY:Punktspiel TSV Zorneding III vs Kirchheimer SC
DESCRIPTION;LANGUAGE=de;ENCODING=QUOTED-PRINTABLE:10:25\, 14:25\, 13:25
END:VEVENT
BEGIN:VEVENT
UID:event7
DTSTAMP:20260423T102412Z
DTSTART:20260206T183000Z
LOCATION;LANGUAGE=de;ENCODING=QUOTED-PRINTABLE:
SUMMARY:Punktspiel TSV Feldkirchen vs Kirchheimer SC
DESCRIPTION;LANGUAGE=de;ENCODING=QUOTED-PRINTABLE:25:27\, 20:25\, 24:26
END:VEVENT
BEGIN:VEVENT
UID:event8
DTSTAMP:20260423T102412Z
DTSTART:20260414T181500Z
DTEND:20260414T203000Z
LOCATION;LANGUAGE=de;ENCODING=QUOTED-PRINTABLE:Heimstettner Straße 3\, Kirchheim bei München
SUMMARY:Punktspiel Kirchheimer SC vs SV Heimstetten II
DESCRIPTION;LANGUAGE=de;ENCODING=QUOTED-PRINTABLE:25:21\, 25:22\, 25:20
END:VEVENT
BEGIN:VEVENT
UID:event9
DTSTAMP:20260423T102412Z
DTSTART:20260421T181500Z
DTEND:20260421T203000Z
LOCATION;LANGUAGE=de;ENCODING=QUOTED-PRINTABLE:Heimstettner Straße 3\, Kirchheim bei München
SUMMARY:Punktspiel Kirchheimer SC vs SV Wörth II
DESCRIPTION;LANGUAGE=de;ENCODING=QUOTED-PRINTABLE:25:21\, 25:17\, 26:24
END:VEVENT
BEGIN:VEVENT
UID:event10
DTSTAMP:20260423T102412Z
DTSTART:20260316T190000Z
DTEND:20260316T210000Z
LOCATION;LANGUAGE=de;ENCODING=QUOTED-PRINTABLE:An der Torfbahn 5\, Ismaning
SUMMARY:Punktspiel TSV Ismaning II vs Kirchheimer SC
DESCRIPTION;LANGUAGE=de;ENCODING=QUOTED-PRINTABLE:10:25\, 16:25\, 9:25
END:VEVENT
BEGIN:VEVENT
UID:event11
DTSTAMP:20260423T102412Z
DTSTART:20260324T191500Z
DTEND:20260324T213000Z
LOCATION;LANGUAGE=de;ENCODING=QUOTED-PRINTABLE:Heimstettner Straße 3\, Kirchheim bei München
SUMMARY:Punktspiel Kirchheimer SC vs Sportfreunde Aschheim
DESCRIPTION;LANGUAGE=de;ENCODING=QUOTED-PRINTABLE:25:10\, 25:17\, 25:19
END:VEVENT
END:VCALENDAR